BEGIN:VCALENDAR
VERSION:2.0
PRODID:-//Francis Lucille - ECPv6.15.20//NONSGML v1.0//EN
CALSCALE:GREGORIAN
METHOD:PUBLISH
X-WR-CALNAME:Francis Lucille
X-ORIGINAL-URL:https://francislucille.com
X-WR-CALDESC:Events for Francis Lucille
REFRESH-INTERVAL;VALUE=DURATION:PT1H
X-Robots-Tag:noindex
X-PUBLISHED-TTL:PT1H
BEGIN:VTIMEZONE
TZID:Europe/Madrid
BEGIN:DAYLIGHT
TZOFFSETFROM:+0100
TZOFFSETTO:+0200
TZNAME:CEST
DTSTART:20230326T010000
END:DAYLIGHT
BEGIN:STANDARD
TZOFFSETFROM:+0200
TZOFFSETTO:+0100
TZNAME:CET
DTSTART:20231029T010000
END:STANDARD
BEGIN:DAYLIGHT
TZOFFSETFROM:+0100
TZOFFSETTO:+0200
TZNAME:CEST
DTSTART:20240331T010000
END:DAYLIGHT
BEGIN:STANDARD
TZOFFSETFROM:+0200
TZOFFSETTO:+0100
TZNAME:CET
DTSTART:20241027T010000
END:STANDARD
BEGIN:DAYLIGHT
TZOFFSETFROM:+0100
TZOFFSETTO:+0200
TZNAME:CEST
DTSTART:20250330T010000
END:DAYLIGHT
BEGIN:STANDARD
TZOFFSETFROM:+0200
TZOFFSETTO:+0100
TZNAME:CET
DTSTART:20251026T010000
END:STANDARD
BEGIN:DAYLIGHT
TZOFFSETFROM:+0100
TZOFFSETTO:+0200
TZNAME:CEST
DTSTART:20260329T010000
END:DAYLIGHT
BEGIN:STANDARD
TZOFFSETFROM:+0200
TZOFFSETTO:+0100
TZNAME:CET
DTSTART:20261025T010000
END:STANDARD
BEGIN:DAYLIGHT
TZOFFSETFROM:+0100
TZOFFSETTO:+0200
TZNAME:CEST
DTSTART:20270328T010000
END:DAYLIGHT
BEGIN:STANDARD
TZOFFSETFROM:+0200
TZOFFSETTO:+0100
TZNAME:CET
DTSTART:20271031T010000
END:STANDARD
END:VTIMEZONE
BEGIN:VEVENT
DTSTART;TZID=Europe/Madrid:20251226T160000
DTEND;TZID=Europe/Madrid:20260101T133000
DTSTAMP:20260422T191053
CREATED:20250104T210359Z
LAST-MODIFIED:20251027T171234Z
UID:4979-1766764800-1767274200@francislucille.com
SUMMARY:Retreat in Paris\, France. German / English
DESCRIPTION:Details(Deutsch weiter unten) Retreat with Francis Lucille in Paris Week 2: From 26.12 to 01.01.2026Languages: Deutsch-English\, with simultaneous translation. VenueA l’Enclos Rey98bis rue du Théâtre – 75015 ParisCode: B1506Tel: +33 1 44 37 31 90Email: enclosrey@cheminsdesperance.orgMetro: Emile Zola (Line 10)\, Commerce (Line 8)\, or Duplex (Line 6). ScheduleEvery Day (except the last day):2:30 PM to 3:30 PM: Meditation and Body Exploration4:30 PM to approx. 6:30 PM: Dialogue Last Day:10:30 AM to 12:30 PM: Meditation and Dialogue Teaching CostRegular Price: $960 USDEarly Bird Price: $860 USD Early Bird ConditionsA deposit of $400 USD is required.The remaining $460 USD must be paid by September 26\, 2025 (90 days before the retreat starts).Reservations will be confirmed only after full payment is received.If payment is not made on time\, the reservation may be canceled\, and the refund policy will apply. Refund PolicyCancellation more than 60 days before the retreat (before October 26\, 2025): Full refund.Cancellation between 30–60 days before the retreat (October 26 – November 26\, 2025): 50% refund.Cancellation less than 30 days before the retreat (after November 26\, 2025): No refund.Payment platform transaction fees are non-refundable.Refunds will be processed within 15 business days of the request. For payment inquiries: billing@francislucille.com AccommodationOn-site accommodation is available and is the most convenient option. Rooms can be reserved directly with Enclos Rey at +33 1 44 37 31 90. Availability is limited. Meeting room fee: 100 euros\, to be paid in cash directly on site at the beginning of the seminar. OrganizationFor inquiries in French: BrigittePhone: +33 6 14 79 41 72Email: brigitte.chatoney@gmail.com For inquiries in French and English: AnastasiaPhone: +33 6 74 64 27 77Email: tikhonova.anastasia@gmail.com For inquiries in German: NéstorPhone: +49 176 4345 6724Email: nestor@francislucille.com Mental Health NoticeIf you are under psychiatric care\, consult your psychiatrist and obtain their agreement before booking. DEUTSCH Retreat mit Francis Lucille in Paris Woche 2: Vom 26.12 bis 01.01.2026Sprachen: Deutsch-Englisch\, mit Simultanübersetzung. VeranstaltungsortIm l’Enclos Rey98bis rue du Théâtre – 75015 ParisCode: B1506Tel: +33 1 44 37 31 90Email: enclosrey@cheminsdesperance.orgMetro: Emile Zola (Linie 10)\, Commerce (Linie 8) oder Duplex (Linie 6). ZeitplanTäglich (außer am letzten Tag):14:30 bis 15:30 Uhr: Meditation und Körpererforschung16:30 bis ca. 18:30 Uhr: Dialog Letzter Tag:10:30 bis 12:30 Uhr: Meditation und Dialog Kosten für den UnterrichtRegulärer Preis: 960 USDFrühbucherpreis: 860 USD FrühbucherbedingungenEine Anzahlung von 400 USD ist erforderlich.Der Restbetrag von 460 USD muss bis zum 26. September 2025 (90 Tage vor Beginn des Retreats) bezahlt werden.Reservierungen werden nur nach vollständiger Zahlung bestätigt.Bei verspäteter Zahlung kann die Reservierung storniert werden\, und die Rückerstattungsrichtlinien kommen zur Anwendung. RückerstattungsrichtlinienStornierung mehr als 60 Tage vor dem Retreat (vor dem 26. Oktober 2025): Volle Rückerstattung.Stornierung zwischen 30–60 Tagen vor dem Retreat (26. Oktober – 26. November 2025): 50 % Rückerstattung.Stornierung weniger als 30 Tage vor dem Retreat (nach dem 26. November 2025): Keine Rückerstattung.Transaktionsgebühren der Zahlungsplattform sind nicht erstattungsfähig.Rückerstattungen werden innerhalb von 15 Werktagen nach Antragstellung bearbeitet. Für Zahlungsanfragen: billing@francislucille.com UnterkunftEine Unterkunft vor Ort ist verfügbar und die bequemste Option. Zimmer können direkt bei Enclos Rey unter +33 1 44 37 31 90 reserviert werden. Die Verfügbarkeit ist begrenzt. Seminarraummiete: 100 Euro\, zu Beginn des Seminars direkt vor Ort in bar zu zahlen. OrganisationFür Anfragen auf Französisch: BrigitteTelefon: +33 6 14 79 41 72Email: brigitte.chatoney@gmail.com Für Anfragen auf Französisch und Englisch: AnastasiaTelefon: +33 667464277Email: tikhonova.anastasia@gmail.com Für Anfragen auf Deutsch: NéstorTelefon: +49 176 4345 6724Email: nestor@francislucille.com Hinweis zur psychischen GesundheitWenn Sie sich in psychiatrischer Behandlung befinden\, konsultieren Sie bitte vor der Anmeldung Ihren Psychiater und holen Sie dessen Zustimmung ein. 								\n				\n					\n				\n		\n					\n				\n				\n							\n						\n				\n					 Click here to see who is coming \n							\n			\n			\n		\n\n						\n				\n				\n				\n									Attendee1Philomeen van der HeijdenNada
URL:https://francislucille.com/event/paris-2025-german-english/
LOCATION:L’Enclos Rey\, 98bis Rue du Théâtre\, Paris\, Paris\, 75015\, France
CATEGORIES:France,In Person
ORGANIZER;CN="Brigitte Chatoney":MAILTO:brigitte.chatoney@gmail.com
END:VEVENT
BEGIN:VEVENT
DTSTART;TZID=Europe/Madrid:20251216T143000
DTEND;TZID=Europe/Madrid:20251222T123000
DTSTAMP:20260422T191053
CREATED:20250104T185333Z
LAST-MODIFIED:20251027T171031Z
UID:4961-1765895400-1766406600@francislucille.com
SUMMARY:Retreat in Paris\, France. French / English
DESCRIPTION:Details(Deutsch weiter unten) Retreat with Francis Lucille in Paris Week 2: From 26.12 to 01.01.2026Languages: Deutsch-English\, with simultaneous translation. VenueA l’Enclos Rey98bis rue du Théâtre – 75015 ParisCode: B1506Tel: +33 1 44 37 31 90Email: enclosrey@cheminsdesperance.orgMetro: Emile Zola (Line 10)\, Commerce (Line 8)\, or Duplex (Line 6). ScheduleEvery Day (except the last day):2:30 PM to 3:30 PM: Meditation and Body Exploration4:30 PM to approx. 6:30 PM: Dialogue Last Day:10:30 AM to 12:30 PM: Meditation and Dialogue Teaching CostRegular Price: $960 USDEarly Bird Price: $860 USD Early Bird ConditionsA deposit of $400 USD is required.The remaining $460 USD must be paid by September 26\, 2025 (90 days before the retreat starts).Reservations will be confirmed only after full payment is received.If payment is not made on time\, the reservation may be canceled\, and the refund policy will apply. Refund PolicyCancellation more than 60 days before the retreat (before October 26\, 2025): Full refund.Cancellation between 30–60 days before the retreat (October 26 – November 26\, 2025): 50% refund.Cancellation less than 30 days before the retreat (after November 26\, 2025): No refund.Payment platform transaction fees are non-refundable.Refunds will be processed within 15 business days of the request. For payment inquiries: billing@francislucille.com AccommodationOn-site accommodation is available and is the most convenient option. Rooms can be reserved directly with Enclos Rey at +33 1 44 37 31 90. Availability is limited. Meeting room fee: 100 euros\, to be paid in cash directly on site at the beginning of the seminar. OrganizationFor inquiries in French: BrigittePhone: +33 6 14 79 41 72Email: brigitte.chatoney@gmail.com For inquiries in French and English: AnastasiaPhone: +33 6 74 64 27 77Email: tikhonova.anastasia@gmail.com For inquiries in German: NéstorPhone: +49 176 4345 6724Email: nestor@francislucille.com Mental Health NoticeIf you are under psychiatric care\, consult your psychiatrist and obtain their agreement before booking. DEUTSCH Retreat mit Francis Lucille in Paris Woche 2: Vom 26.12 bis 01.01.2026Sprachen: Deutsch-Englisch\, mit Simultanübersetzung. VeranstaltungsortIm l’Enclos Rey98bis rue du Théâtre – 75015 ParisCode: B1506Tel: +33 1 44 37 31 90Email: enclosrey@cheminsdesperance.orgMetro: Emile Zola (Linie 10)\, Commerce (Linie 8) oder Duplex (Linie 6). ZeitplanTäglich (außer am letzten Tag):14:30 bis 15:30 Uhr: Meditation und Körpererforschung16:30 bis ca. 18:30 Uhr: Dialog Letzter Tag:10:30 bis 12:30 Uhr: Meditation und Dialog Kosten für den UnterrichtRegulärer Preis: 960 USDFrühbucherpreis: 860 USD FrühbucherbedingungenEine Anzahlung von 400 USD ist erforderlich.Der Restbetrag von 460 USD muss bis zum 26. September 2025 (90 Tage vor Beginn des Retreats) bezahlt werden.Reservierungen werden nur nach vollständiger Zahlung bestätigt.Bei verspäteter Zahlung kann die Reservierung storniert werden\, und die Rückerstattungsrichtlinien kommen zur Anwendung. RückerstattungsrichtlinienStornierung mehr als 60 Tage vor dem Retreat (vor dem 26. Oktober 2025): Volle Rückerstattung.Stornierung zwischen 30–60 Tagen vor dem Retreat (26. Oktober – 26. November 2025): 50 % Rückerstattung.Stornierung weniger als 30 Tage vor dem Retreat (nach dem 26. November 2025): Keine Rückerstattung.Transaktionsgebühren der Zahlungsplattform sind nicht erstattungsfähig.Rückerstattungen werden innerhalb von 15 Werktagen nach Antragstellung bearbeitet. Für Zahlungsanfragen: billing@francislucille.com UnterkunftEine Unterkunft vor Ort ist verfügbar und die bequemste Option. Zimmer können direkt bei Enclos Rey unter +33 1 44 37 31 90 reserviert werden. Die Verfügbarkeit ist begrenzt. Seminarraummiete: 100 Euro\, zu Beginn des Seminars direkt vor Ort in bar zu zahlen. OrganisationFür Anfragen auf Französisch: BrigitteTelefon: +33 6 14 79 41 72Email: brigitte.chatoney@gmail.com Für Anfragen auf Französisch und Englisch: AnastasiaTelefon: +33 667464277Email: tikhonova.anastasia@gmail.com Für Anfragen auf Deutsch: NéstorTelefon: +49 176 4345 6724Email: nestor@francislucille.com Hinweis zur psychischen GesundheitWenn Sie sich in psychiatrischer Behandlung befinden\, konsultieren Sie bitte vor der Anmeldung Ihren Psychiater und holen Sie dessen Zustimmung ein. 								\n				\n					\n				\n		\n					\n				\n				\n							\n						\n				\n					 Click here to see who is coming \n							\n			\n			\n		\n\n						\n				\n				\n				\n									Attendee1Philomeen van der HeijdenNada
URL:https://francislucille.com/event/paris-2025-english-french/
LOCATION:L’Enclos Rey\, 98bis Rue du Théâtre\, Paris\, Paris\, 75015\, France
CATEGORIES:France,In Person
ORGANIZER;CN="Brigitte Chatoney":MAILTO:brigitte.chatoney@gmail.com
END:VEVENT
BEGIN:VEVENT
DTSTART;VALUE=DATE:20241226
DTEND;VALUE=DATE:20250102
DTSTAMP:20260422T191053
CREATED:20241012T212050Z
LAST-MODIFIED:20241220T085752Z
UID:4481-1735171200-1735775999@francislucille.com
SUMMARY:Paris 2024 Retreat with Francis Lucille English/German Week 2
DESCRIPTION:Details(Deutsch weiter unten) Retreat with Francis Lucille in Paris Week 2: From 26.12 to 01.01.2026Languages: Deutsch-English\, with simultaneous translation. VenueA l’Enclos Rey98bis rue du Théâtre – 75015 ParisCode: B1506Tel: +33 1 44 37 31 90Email: enclosrey@cheminsdesperance.orgMetro: Emile Zola (Line 10)\, Commerce (Line 8)\, or Duplex (Line 6). ScheduleEvery Day (except the last day):2:30 PM to 3:30 PM: Meditation and Body Exploration4:30 PM to approx. 6:30 PM: Dialogue Last Day:10:30 AM to 12:30 PM: Meditation and Dialogue Teaching CostRegular Price: $960 USDEarly Bird Price: $860 USD Early Bird ConditionsA deposit of $400 USD is required.The remaining $460 USD must be paid by September 26\, 2025 (90 days before the retreat starts).Reservations will be confirmed only after full payment is received.If payment is not made on time\, the reservation may be canceled\, and the refund policy will apply. Refund PolicyCancellation more than 60 days before the retreat (before October 26\, 2025): Full refund.Cancellation between 30–60 days before the retreat (October 26 – November 26\, 2025): 50% refund.Cancellation less than 30 days before the retreat (after November 26\, 2025): No refund.Payment platform transaction fees are non-refundable.Refunds will be processed within 15 business days of the request. For payment inquiries: billing@francislucille.com AccommodationOn-site accommodation is available and is the most convenient option. Rooms can be reserved directly with Enclos Rey at +33 1 44 37 31 90. Availability is limited. Meeting room fee: 100 euros\, to be paid in cash directly on site at the beginning of the seminar. OrganizationFor inquiries in French: BrigittePhone: +33 6 14 79 41 72Email: brigitte.chatoney@gmail.com For inquiries in French and English: AnastasiaPhone: +33 6 74 64 27 77Email: tikhonova.anastasia@gmail.com For inquiries in German: NéstorPhone: +49 176 4345 6724Email: nestor@francislucille.com Mental Health NoticeIf you are under psychiatric care\, consult your psychiatrist and obtain their agreement before booking. DEUTSCH Retreat mit Francis Lucille in Paris Woche 2: Vom 26.12 bis 01.01.2026Sprachen: Deutsch-Englisch\, mit Simultanübersetzung. VeranstaltungsortIm l’Enclos Rey98bis rue du Théâtre – 75015 ParisCode: B1506Tel: +33 1 44 37 31 90Email: enclosrey@cheminsdesperance.orgMetro: Emile Zola (Linie 10)\, Commerce (Linie 8) oder Duplex (Linie 6). ZeitplanTäglich (außer am letzten Tag):14:30 bis 15:30 Uhr: Meditation und Körpererforschung16:30 bis ca. 18:30 Uhr: Dialog Letzter Tag:10:30 bis 12:30 Uhr: Meditation und Dialog Kosten für den UnterrichtRegulärer Preis: 960 USDFrühbucherpreis: 860 USD FrühbucherbedingungenEine Anzahlung von 400 USD ist erforderlich.Der Restbetrag von 460 USD muss bis zum 26. September 2025 (90 Tage vor Beginn des Retreats) bezahlt werden.Reservierungen werden nur nach vollständiger Zahlung bestätigt.Bei verspäteter Zahlung kann die Reservierung storniert werden\, und die Rückerstattungsrichtlinien kommen zur Anwendung. RückerstattungsrichtlinienStornierung mehr als 60 Tage vor dem Retreat (vor dem 26. Oktober 2025): Volle Rückerstattung.Stornierung zwischen 30–60 Tagen vor dem Retreat (26. Oktober – 26. November 2025): 50 % Rückerstattung.Stornierung weniger als 30 Tage vor dem Retreat (nach dem 26. November 2025): Keine Rückerstattung.Transaktionsgebühren der Zahlungsplattform sind nicht erstattungsfähig.Rückerstattungen werden innerhalb von 15 Werktagen nach Antragstellung bearbeitet. Für Zahlungsanfragen: billing@francislucille.com UnterkunftEine Unterkunft vor Ort ist verfügbar und die bequemste Option. Zimmer können direkt bei Enclos Rey unter +33 1 44 37 31 90 reserviert werden. Die Verfügbarkeit ist begrenzt. Seminarraummiete: 100 Euro\, zu Beginn des Seminars direkt vor Ort in bar zu zahlen. OrganisationFür Anfragen auf Französisch: BrigitteTelefon: +33 6 14 79 41 72Email: brigitte.chatoney@gmail.com Für Anfragen auf Französisch und Englisch: AnastasiaTelefon: +33 667464277Email: tikhonova.anastasia@gmail.com Für Anfragen auf Deutsch: NéstorTelefon: +49 176 4345 6724Email: nestor@francislucille.com Hinweis zur psychischen GesundheitWenn Sie sich in psychiatrischer Behandlung befinden\, konsultieren Sie bitte vor der Anmeldung Ihren Psychiater und holen Sie dessen Zustimmung ein. 								\n				\n					\n				\n		\n					\n				\n				\n							\n						\n				\n					 Click here to see who is coming \n							\n			\n			\n		\n\n						\n				\n				\n				\n									Attendee1Philomeen van der HeijdenNada
URL:https://francislucille.com/event/paris-2024-retreat-with-francis-lucille-english-german-week-2/
LOCATION:L’Enclos Rey\, 98bis Rue du Théâtre\, Paris\, Paris\, 75015\, France
CATEGORIES:France,In Person
END:VEVENT
END:VCALENDAR